BEGIN:VCALENDAR
VERSION:2.0
PRODID:-//Huppenbroich - ECPv6.15.18//NONSGML v1.0//EN
CALSCALE:GREGORIAN
METHOD:PUBLISH
X-ORIGINAL-URL:https://huppenbroich.de
X-WR-CALDESC:Veranstaltungen für Huppenbroich
REFRESH-INTERVAL;VALUE=DURATION:PT1H
X-Robots-Tag:noindex
X-PUBLISHED-TTL:PT1H
BEGIN:VTIMEZONE
TZID:Europe/Berlin
BEGIN:DAYLIGHT
TZOFFSETFROM:+0100
TZOFFSETTO:+0200
TZNAME:CEST
DTSTART:20220327T010000
END:DAYLIGHT
BEGIN:STANDARD
TZOFFSETFROM:+0200
TZOFFSETTO:+0100
TZNAME:CET
DTSTART:20221030T010000
END:STANDARD
BEGIN:DAYLIGHT
TZOFFSETFROM:+0100
TZOFFSETTO:+0200
TZNAME:CEST
DTSTART:20230326T010000
END:DAYLIGHT
BEGIN:STANDARD
TZOFFSETFROM:+0200
TZOFFSETTO:+0100
TZNAME:CET
DTSTART:20231029T010000
END:STANDARD
BEGIN:DAYLIGHT
TZOFFSETFROM:+0100
TZOFFSETTO:+0200
TZNAME:CEST
DTSTART:20240331T010000
END:DAYLIGHT
BEGIN:STANDARD
TZOFFSETFROM:+0200
TZOFFSETTO:+0100
TZNAME:CET
DTSTART:20241027T010000
END:STANDARD
END:VTIMEZONE
BEGIN:VEVENT
DTSTART;TZID=Europe/Berlin:20230430T130000
DTEND;TZID=Europe/Berlin:20230430T130000
DTSTAMP:20260424T010114
CREATED:20230129T114234Z
LAST-MODIFIED:20230129T114738Z
UID:17155-1682859600-1682859600@huppenbroich.de
SUMMARY:11. Pferde- und Haustiersegnung
DESCRIPTION:Wir laden alle Pferde- und Haustierhalter sowie alle Freunde unserer Vierbeiner zur traditionellen Segnung auf den Platz am Sportheim FC Viktoria Huppenbroich ein. Nach der Prozession (Beginn 14:00 Uhr – Rückkehr ca. 14:45 Uhr) wird Pfarrer Michael Stoffels die Segnung vornehmen.\n \nWährend der Veranstaltung lädt der FC Viktoria Huppenbroich 1923 e. V. zu Imbiss mit Getränken sowie zu Kaffee und Kuchen ein.\n \nWir freuen uns auf Ihren Besuch!\n \nIhr\nKapellenverein Huppenbroich e. V.
URL:https://huppenbroich.de/event/11-pferde-und-haustiersegnung/
LOCATION:Sportplatz FC Viktoria\, Viktoriastr. 15\, Simmerath\, 52152
CATEGORIES:FC Viktoria,Kapellenverein
ATTACH;FMTTYPE=image/jpeg:https://huppenbroich.de/wp-content/uploads/2023/01/220501-PS-2-0270.jpg
ORGANIZER;CN="Kapellenverein Huppenbroich":MAILTO:kapv@huppenbroich.de
END:VEVENT
END:VCALENDAR